BEGIN:VCALENDAR
VERSION:2.0
PRODID:SchoolNow
CALSCALE:GREGORIAN
BEGIN:VEVENT
UID:8a593a76-e8e4-11ec-872b-0aca6eca568d
DTSTAMP:20220610T174121Z
SUMMARY:Spring Recess - School Closed (4-3-23)
URL;VALUE=URI:https://www.liverpool.k12.ny.us/calendar/3217134/spring-reces
 s-school-closed-4-3-23
DTSTART;VALUE=DATE:20230403
DTEND;VALUE=DATE:20230404
END:VEVENT
END:VCALENDAR
