BEGIN:VCALENDAR
VERSION:2.0
PRODID:SchoolNow
CALSCALE:GREGORIAN
BEGIN:VEVENT
UID:9583a436-e8e4-11ec-8e45-0aca6eca568d
DTSTAMP:20220610T174140Z
SUMMARY:Spring Recess - School Closed (4-4-23)
URL;VALUE=URI:https://www.liverpool.k12.ny.us/calendar/3217135/spring-reces
 s-school-closed-4-4-23
DTSTART;VALUE=DATE:20230404
DTEND;VALUE=DATE:20230405
END:VEVENT
END:VCALENDAR
