BEGIN:VCALENDAR
VERSION:2.0
PRODID:SchoolNow
CALSCALE:GREGORIAN
BEGIN:VEVENT
UID:aeb419f4-e8e4-11ec-bedb-0aca6eca568d
DTSTAMP:20220610T174222Z
SUMMARY:Spring Recess - School Closed (4-5-23)
URL;VALUE=URI:https://www.liverpool.k12.ny.us/calendar/3217136/spring-reces
 s-school-closed-4-5-23
DTSTART;VALUE=DATE:20230405
DTEND;VALUE=DATE:20230406
END:VEVENT
END:VCALENDAR
