BEGIN:VCALENDAR
VERSION:2.0
PRODID:SchoolNow
CALSCALE:GREGORIAN
BEGIN:VEVENT
UID:be0a6cb4-e8e4-11ec-b93d-0aca6eca568d
DTSTAMP:20220610T174248Z
SUMMARY:Spring Recess - School Closed (4-6-23)
URL;VALUE=URI:https://www.liverpool.k12.ny.us/calendar/3217137/spring-reces
 s-school-closed-4-6-23
DTSTART;VALUE=DATE:20230406
DTEND;VALUE=DATE:20230407
END:VEVENT
END:VCALENDAR
