BEGIN:VCALENDAR
VERSION:2.0
PRODID:SchoolNow
CALSCALE:GREGORIAN
BEGIN:VEVENT
UID:cfd4811e-e8e4-11ec-94cc-0aca6eca568d
DTSTAMP:20220610T174317Z
SUMMARY:Good Friday - School Closed (4-7-23)
URL;VALUE=URI:https://www.liverpool.k12.ny.us/calendar/3217138/good-friday-
 school-closed-4-7-23
DTSTART;VALUE=DATE:20230407
DTEND;VALUE=DATE:20230408
END:VEVENT
END:VCALENDAR
