BEGIN:VCALENDAR
VERSION:2.0
PRODID:SchoolNow
CALSCALE:GREGORIAN
BEGIN:VEVENT
UID:f4742f9c-e8e4-11ec-bbad-0aca6eca568d
DTSTAMP:20220610T174419Z
SUMMARY:Memorial Day Holiday - School Closed (5-29-23)
URL;VALUE=URI:https://www.liverpool.k12.ny.us/calendar/3217139/memorial-day
 -holiday-school-closed-5-29-23
DTSTART;VALUE=DATE:20230529
DTEND;VALUE=DATE:20230530
END:VEVENT
END:VCALENDAR
