BEGIN:VCALENDAR
VERSION:2.0
PRODID:SchoolNow
CALSCALE:GREGORIAN
BEGIN:VEVENT
UID:1b02f080-e8e5-11ec-9f37-0aca6eca568d
DTSTAMP:20220610T174523Z
SUMMARY:Juneteenth Observance - School Closed (6-19-23)
URL;VALUE=URI:https://www.liverpool.k12.ny.us/calendar/3217140/juneteenth-o
 bservance-school-closed-6-19-23
DTSTART;VALUE=DATE:20230619
DTEND;VALUE=DATE:20230620
END:VEVENT
END:VCALENDAR
