BEGIN:VCALENDAR
VERSION:2.0
PRODID:SchoolNow
CALSCALE:GREGORIAN
BEGIN:VEVENT
UID:388d56a4-e8e5-11ec-b11f-0aca6eca568d
DTSTAMP:20230419T212023Z
SUMMARY:Last Day of School - Early Dismissal for Students (6-23-23)
URL;VALUE=URI:https://www.liverpool.k12.ny.us/calendar/3217141/last-day-of-
 school-6-23-23
DTSTART;VALUE=DATE:20230623
DTEND;VALUE=DATE:20230624
END:VEVENT
END:VCALENDAR
