BEGIN:VCALENDAR
VERSION:2.0
PRODID:SchoolNow
CALSCALE:GREGORIAN
BEGIN:VEVENT
UID:602239a0-e8e5-11ec-8e79-0aca6eca568d
DTSTAMP:20220610T174719Z
SUMMARY:Regents Exams (6-15-23)
URL;VALUE=URI:https://www.liverpool.k12.ny.us/calendar/3217143/regents-exam
 s-6-15-23
DTSTART;VALUE=DATE:20230615
DTEND;VALUE=DATE:20230616
END:VEVENT
END:VCALENDAR
