BEGIN:VCALENDAR
VERSION:2.0
PRODID:SchoolNow
CALSCALE:GREGORIAN
BEGIN:VEVENT
UID:6d711284-e8e5-11ec-9ebf-0aca6eca568d
DTSTAMP:20220610T174742Z
SUMMARY:Regents Exams (6-16-23)
URL;VALUE=URI:https://www.liverpool.k12.ny.us/calendar/3217144/regents-exam
 s-6-16-23
DTSTART;VALUE=DATE:20230616
DTEND;VALUE=DATE:20230617
END:VEVENT
END:VCALENDAR
