BEGIN:VCALENDAR
VERSION:2.0
PRODID:SchoolNow
CALSCALE:GREGORIAN
BEGIN:VEVENT
UID:9e096de2-e8e5-11ec-acf3-0aca6eca568d
DTSTAMP:20220610T174903Z
SUMMARY:Regents Exams (6-20-23)
URL;VALUE=URI:https://www.liverpool.k12.ny.us/calendar/3217146/regents-exam
 s-6-20-23
DTSTART;VALUE=DATE:20230620
DTEND;VALUE=DATE:20230621
END:VEVENT
END:VCALENDAR
