BEGIN:VCALENDAR
VERSION:2.0
PRODID:SchoolNow
CALSCALE:GREGORIAN
BEGIN:VEVENT
UID:d0c7c774-e8e5-11ec-a2ab-0aca6eca568d
DTSTAMP:20220610T175028Z
SUMMARY:Regents Exams (6-22-23)
URL;VALUE=URI:https://www.liverpool.k12.ny.us/calendar/3217148/regents-exam
 s-6-22-23
DTSTART;VALUE=DATE:20230622
DTEND;VALUE=DATE:20230623
END:VEVENT
END:VCALENDAR
