BEGIN:VCALENDAR
VERSION:2.0
PRODID:SchoolNow
CALSCALE:GREGORIAN
BEGIN:VEVENT
UID:de29ff86-e8e5-11ec-957a-0aca6eca568d
DTSTAMP:20220610T175051Z
SUMMARY:Regents Exams (6-23-23)
URL;VALUE=URI:https://www.liverpool.k12.ny.us/calendar/3217149/regents-exam
 s-6-23-23
DTSTART;VALUE=DATE:20230623
DTEND;VALUE=DATE:20230624
END:VEVENT
END:VCALENDAR
