BEGIN:VCALENDAR
VERSION:2.0
PRODID:SchoolNow
CALSCALE:GREGORIAN
BEGIN:VEVENT
UID:f1b2f1ec-037b-11ed-a673-02a5a969191b
DTSTAMP:20220714T135038Z
SUMMARY:Board of Education Meeting (11-21-22)
LOCATION:District Office Board Room
URL;VALUE=URI:https://www.liverpool.k12.ny.us/calendar/3243926/board-of-edu
 cation-meeting-11-21-22
DTSTART:20221122T000000Z
DTEND:20221122T040000Z
END:VEVENT
END:VCALENDAR
