BEGIN:VCALENDAR
VERSION:2.0
PRODID:SchoolNow
CALSCALE:GREGORIAN
BEGIN:VEVENT
UID:02c39eea-037d-11ed-aa26-0285b2549fc1
DTSTAMP:20220714T135817Z
SUMMARY:Board of Education Meeting (12-5-22)
LOCATION:District Office Board Room
URL;VALUE=URI:https://www.liverpool.k12.ny.us/calendar/3243928/board-of-edu
 cation-meeting-12-5-22
DTSTART:20221206T000000Z
DTEND:20221206T040000Z
END:VEVENT
END:VCALENDAR
