BEGIN:VCALENDAR
VERSION:2.0
PRODID:SchoolNow
CALSCALE:GREGORIAN
BEGIN:VEVENT
UID:9b6f7c0e-037d-11ed-93e2-0285b2549fc1
DTSTAMP:20220714T140233Z
SUMMARY:Board of Education Meeting (1-9-23)
LOCATION:District Office Board Room
URL;VALUE=URI:https://www.liverpool.k12.ny.us/calendar/3243932/board-of-edu
 cation-meeting-1-9-23
DTSTART:20230110T000000Z
DTEND:20230110T040000Z
END:VEVENT
END:VCALENDAR
