BEGIN:VCALENDAR
VERSION:2.0
PRODID:SchoolNow
CALSCALE:GREGORIAN
BEGIN:VEVENT
UID:e848a2c6-037d-11ed-ad59-0285b2549fc1
DTSTAMP:20220714T140442Z
SUMMARY:Board of Education Meeting (2-6-23)
LOCATION:District Office Board Room
URL;VALUE=URI:https://www.liverpool.k12.ny.us/calendar/3243936/board-of-edu
 cation-meeting-2-6-23
DTSTART:20230207T000000Z
DTEND:20230207T040000Z
END:VEVENT
END:VCALENDAR
