BEGIN:VCALENDAR
VERSION:2.0
PRODID:SchoolNow
CALSCALE:GREGORIAN
BEGIN:VEVENT
UID:fb97513c-037e-11ed-abca-0285b2549fc1
DTSTAMP:20230403T200945Z
SUMMARY:Board of Education Meeting - Executive Session ONLY (4-10-23)
LOCATION:District Office Board Room
URL;VALUE=URI:https://www.liverpool.k12.ny.us/calendar/3243944/board-of-edu
 cation-meeting-4-10-23
DTSTART:20230410T230000Z
DTEND:20230411T030000Z
END:VEVENT
END:VCALENDAR
