BEGIN:VCALENDAR
VERSION:2.0
PRODID:SchoolNow
CALSCALE:GREGORIAN
BEGIN:VEVENT
UID:df26b404-0381-11ed-870a-0e844f2a7d17
DTSTAMP:20220714T143304Z
SUMMARY:Board of Education Meeting (5-15-23)
LOCATION:District Office Board Room
URL;VALUE=URI:https://www.liverpool.k12.ny.us/calendar/3243950/board-of-edu
 cation-meeting-5-15-23
DTSTART:20230515T230000Z
DTEND:20230516T030000Z
END:VEVENT
END:VCALENDAR
