BEGIN:VCALENDAR
VERSION:2.0
PRODID:SchoolNow
CALSCALE:GREGORIAN
BEGIN:VEVENT
UID:9f926f80-1d9a-11ed-b7e3-02184d5d6b45
DTSTAMP:20220816T193545Z
SUMMARY:Middle School Report Cards Online (3-10-23)
URL;VALUE=URI:https://www.liverpool.k12.ny.us/calendar/3284184/middle-schoo
 l-report-cards-online-3-10-23
DTSTART;VALUE=DATE:20230310
DTEND;VALUE=DATE:20230311
END:VEVENT
END:VCALENDAR
