BEGIN:VCALENDAR
VERSION:2.0
PRODID:SchoolNow
CALSCALE:GREGORIAN
BEGIN:VEVENT
UID:bcf0112c-1d9a-11ed-90ea-02184d5d6b45
DTSTAMP:20220816T193635Z
SUMMARY:Middle School Report Cards Online (5-5-23)
URL;VALUE=URI:https://www.liverpool.k12.ny.us/calendar/3284189/middle-schoo
 l-report-cards-online-5-5-23
DTSTART;VALUE=DATE:20230505
DTEND;VALUE=DATE:20230506
END:VEVENT
END:VCALENDAR
