BEGIN:VCALENDAR
VERSION:2.0
PRODID:SchoolNow
CALSCALE:GREGORIAN
BEGIN:VEVENT
UID:db657c28-1d9a-11ed-9463-02184d5d6b45
DTSTAMP:20220816T193726Z
SUMMARY:Middle School Report Cards Online (6-30-2)
URL;VALUE=URI:https://www.liverpool.k12.ny.us/calendar/3284194/middle-schoo
 l-report-cards-online-6-30-2
DTSTART;VALUE=DATE:20230630
DTEND;VALUE=DATE:20230701
END:VEVENT
END:VCALENDAR
