BEGIN:VCALENDAR
VERSION:2.0
PRODID:SchoolNow
CALSCALE:GREGORIAN
BEGIN:VEVENT
UID:395b5e06-1d9b-11ed-80e0-02184d5d6b45
DTSTAMP:20220816T194003Z
SUMMARY:Middle School Parent Conferences (3-9-23)
URL;VALUE=URI:https://www.liverpool.k12.ny.us/calendar/3284200/middle-schoo
 l-parent-conferences-3-9-23
DTSTART;VALUE=DATE:20230309
DTEND;VALUE=DATE:20230310
END:VEVENT
END:VCALENDAR
