BEGIN:VCALENDAR
VERSION:2.0
PRODID:SchoolNow
CALSCALE:GREGORIAN
BEGIN:VEVENT
UID:63e00734-1d9c-11ed-b1df-02184d5d6b45
DTSTAMP:20220816T194824Z
SUMMARY:High School Report Cards Online (11-18-22)
URL;VALUE=URI:https://www.liverpool.k12.ny.us/calendar/3284212/high-school-
 report-cards-online-11-18-22
DTSTART;VALUE=DATE:20221118
DTEND;VALUE=DATE:20221119
END:VEVENT
END:VCALENDAR
