BEGIN:VCALENDAR
VERSION:2.0
PRODID:SchoolNow
CALSCALE:GREGORIAN
BEGIN:VEVENT
UID:80941c44-1d9c-11ed-9dd7-02184d5d6b45
DTSTAMP:20220816T194912Z
SUMMARY:High School Report Cards Online (2-3-23)
URL;VALUE=URI:https://www.liverpool.k12.ny.us/calendar/3284214/high-school-
 report-cards-online-2-3-23
DTSTART;VALUE=DATE:20230203
DTEND;VALUE=DATE:20230204
END:VEVENT
END:VCALENDAR
