BEGIN:VCALENDAR
VERSION:2.0
PRODID:SchoolNow
CALSCALE:GREGORIAN
BEGIN:VEVENT
UID:a2bca462-1d9c-11ed-8287-02184d5d6b45
DTSTAMP:20220816T195010Z
SUMMARY:High School Report Cards Online (4-21-23)
URL;VALUE=URI:https://www.liverpool.k12.ny.us/calendar/3284216/high-school-
 report-cards-online-4-21-23
DTSTART;VALUE=DATE:20230421
DTEND;VALUE=DATE:20230422
END:VEVENT
END:VCALENDAR
