BEGIN:VCALENDAR
VERSION:2.0
PRODID:SchoolNow
CALSCALE:GREGORIAN
BEGIN:VEVENT
UID:be643086-1d9c-11ed-98c9-02184d5d6b45
DTSTAMP:20220816T195056Z
SUMMARY:High School Report Cards Online (6-30-23)
URL;VALUE=URI:https://www.liverpool.k12.ny.us/calendar/3284218/high-school-
 report-cards-online-6-30-23
DTSTART;VALUE=DATE:20230630
DTEND;VALUE=DATE:20230701
END:VEVENT
END:VCALENDAR
