BEGIN:VCALENDAR
VERSION:2.0
PRODID:SchoolNow
CALSCALE:GREGORIAN
BEGIN:VEVENT
UID:fa5af2be-1d9c-11ed-88d6-02184d5d6b45
DTSTAMP:20220816T195237Z
SUMMARY:High School Progress Reports Online (12-23-22)
URL;VALUE=URI:https://www.liverpool.k12.ny.us/calendar/3284222/high-school-
 progress-reports-online-12-23-22
DTSTART;VALUE=DATE:20221223
DTEND;VALUE=DATE:20221224
END:VEVENT
END:VCALENDAR
