BEGIN:VCALENDAR
VERSION:2.0
PRODID:SchoolNow
CALSCALE:GREGORIAN
BEGIN:VEVENT
UID:129f714c-1d9d-11ed-807f-02184d5d6b45
DTSTAMP:20220816T195317Z
SUMMARY:High School Progress Reports Online (3-17-23)
URL;VALUE=URI:https://www.liverpool.k12.ny.us/calendar/3284224/high-school-
 progress-reports-online-3-17-23
DTSTART;VALUE=DATE:20230317
DTEND;VALUE=DATE:20230318
END:VEVENT
END:VCALENDAR
