BEGIN:VCALENDAR
VERSION:2.0
PRODID:SchoolNow
CALSCALE:GREGORIAN
BEGIN:VEVENT
UID:2fe15e8c-1d9d-11ed-9b77-02184d5d6b45
DTSTAMP:20220816T195406Z
SUMMARY:High School Progress Reports Online (5-26-23)
URL;VALUE=URI:https://www.liverpool.k12.ny.us/calendar/3284226/high-school-
 progress-reports-online-5-26-23
DTSTART;VALUE=DATE:20230526
DTEND;VALUE=DATE:20230527
END:VEVENT
END:VCALENDAR
