BEGIN:VCALENDAR
VERSION:2.0
PRODID:SchoolNow
CALSCALE:GREGORIAN
BEGIN:VEVENT
UID:6115efc0-1f02-11ed-9eaa-026cb4680303
DTSTAMP:20220818T143059Z
SUMMARY:Elementary Report Cards Online (12-2-22)
URL;VALUE=URI:https://www.liverpool.k12.ny.us/calendar/3286054/elementary-r
 eport-cards-online-12-2-22
DTSTART;VALUE=DATE:20221202
DTEND;VALUE=DATE:20221203
END:VEVENT
END:VCALENDAR
