BEGIN:VCALENDAR
VERSION:2.0
PRODID:SchoolNow
CALSCALE:GREGORIAN
BEGIN:VEVENT
UID:8a8e14ae-1f02-11ed-b43a-026cb4680303
DTSTAMP:20220818T143209Z
SUMMARY:Elementary Report Cards Online (3-10-23)
URL;VALUE=URI:https://www.liverpool.k12.ny.us/calendar/3286063/elementary-r
 eport-cards-online-3-10-23
DTSTART;VALUE=DATE:20230310
DTEND;VALUE=DATE:20230311
END:VEVENT
END:VCALENDAR
