BEGIN:VCALENDAR
VERSION:2.0
PRODID:SchoolNow
CALSCALE:GREGORIAN
BEGIN:VEVENT
UID:cb4a0e8a-1f02-11ed-96d3-026cb4680303
DTSTAMP:20220818T143357Z
SUMMARY:Elementary Report Cards Online (6-23-23)
URL;VALUE=URI:https://www.liverpool.k12.ny.us/calendar/3286072/elementary-r
 eport-cards-online-6-23-23
DTSTART;VALUE=DATE:20230623
DTEND;VALUE=DATE:20230624
END:VEVENT
END:VCALENDAR
