BEGIN:VCALENDAR
VERSION:2.0
PRODID:SchoolNow
CALSCALE:GREGORIAN
BEGIN:VEVENT
UID:bd6a42ca-1f03-11ed-a60f-026cb4680303
DTSTAMP:20220818T144044Z
SUMMARY:Elementary School Parent Conferences - Early Dismissal (12-8-22)
URL;VALUE=URI:https://www.liverpool.k12.ny.us/calendar/3286099/elementary-s
 chool-parent-conferences-early-dismissal-12-8-22
DTSTART;VALUE=DATE:20221208
DTEND;VALUE=DATE:20221209
END:VEVENT
END:VCALENDAR
