BEGIN:VCALENDAR
VERSION:2.0
PRODID:SchoolNow
CALSCALE:GREGORIAN
BEGIN:VEVENT
UID:e07b6cbc-1f03-11ed-b32d-026cb4680303
DTSTAMP:20220818T144142Z
SUMMARY:Elementary School Parent Conferences - Early Dismissal (2-2-23)
URL;VALUE=URI:https://www.liverpool.k12.ny.us/calendar/3286108/elementary-s
 chool-parent-conferences-early-dismissal-2-2-23
DTSTART;VALUE=DATE:20230202
DTEND;VALUE=DATE:20230203
END:VEVENT
END:VCALENDAR
