BEGIN:VCALENDAR
VERSION:2.0
PRODID:SchoolNow
CALSCALE:GREGORIAN
BEGIN:VEVENT
UID:19669f10-1f04-11ed-8a5c-026cb4680303
DTSTAMP:20220818T144318Z
SUMMARY:Early Dismissal Drills (11-22-22)
URL;VALUE=URI:https://www.liverpool.k12.ny.us/calendar/3286117/early-dismis
 sal-drills-11-22-22
DTSTART;VALUE=DATE:20221122
DTEND;VALUE=DATE:20221123
END:VEVENT
END:VCALENDAR
