BEGIN:VCALENDAR
VERSION:2.0
PRODID:SchoolNow
CALSCALE:GREGORIAN
BEGIN:VEVENT
UID:fcdcb452-6124-11ed-9683-0efe3f90384b
DTSTAMP:20221110T182500Z
SUMMARY:Policy Committee Meeting (12-15-22)
LOCATION:District Office Room 2
URL;VALUE=URI:https://www.liverpool.k12.ny.us/calendar/3602474/policy-commi
 ttee-meeting-12-15-22
DTSTART:20221215T120000Z
DTEND:20221215T130000Z
END:VEVENT
END:VCALENDAR
