BEGIN:VCALENDAR
VERSION:2.0
PRODID:SchoolNow
CALSCALE:GREGORIAN
BEGIN:VEVENT
UID:356fa482-74a8-11ed-beb4-0e53b7268cc5
DTSTAMP:20221205T142211Z
SUMMARY:Class of 2023 Graduation Ceremony
URL;VALUE=URI:https://www.liverpool.k12.ny.us/calendar/3634801/class-of-202
 3-graduation-ceremony
DTSTART:20230622T220000Z
DTEND:20230623T010000Z
END:VEVENT
END:VCALENDAR
