BEGIN:VCALENDAR
VERSION:2.0
PRODID:SchoolNow
CALSCALE:GREGORIAN
BEGIN:VEVENT
UID:3beb1e4e-7d73-11ed-b502-0ef2898a413f
DTSTAMP:20230207T180458Z
SUMMARY:Policy Committee Meeting (2-16-23)
LOCATION:District Office Board Room
URL;VALUE=URI:https://www.liverpool.k12.ny.us/calendar/3646094/policy-commi
 ttee-meeting-2-9-23
DTSTART:20230216T120000Z
DTEND:20230216T130000Z
END:VEVENT
END:VCALENDAR
