BEGIN:VCALENDAR
VERSION:2.0
PRODID:SchoolNow
CALSCALE:GREGORIAN
BEGIN:VEVENT
UID:c1caf4f4-b6d9-11ed-b5bf-0a4f85d12bfd
DTSTAMP:20230227T200309Z
SUMMARY:Preparing Our Students for  the Future - Not Our Past
LOCATION:Liverpool High School
URL;VALUE=URI:https://www.liverpool.k12.ny.us/calendar/3791608/preparing-ou
 r-students-for-the-future-not-our-past
DTSTART:20230313T220000Z
DTEND:20230314T000000Z
END:VEVENT
END:VCALENDAR
