BEGIN:VCALENDAR
VERSION:2.0
PRODID:SchoolNow
CALSCALE:GREGORIAN
BEGIN:VEVENT
UID:884ee158-b90a-11ed-971c-0e559ecb257f
DTSTAMP:20230302T145720Z
SUMMARY:Middle School Early Dismissal (3-10-23)
URL;VALUE=URI:https://www.liverpool.k12.ny.us/calendar/3805342/middle-schoo
 l-early-dismissal-3-10-23
DTSTART;VALUE=DATE:20230310
DTEND;VALUE=DATE:20230311
END:VEVENT
END:VCALENDAR
