BEGIN:VCALENDAR
VERSION:2.0
PRODID:SchoolNow
CALSCALE:GREGORIAN
BEGIN:VEVENT
UID:a6d62a56-def7-11ed-8573-02cfe7c0688b
DTSTAMP:20230419T211755Z
SUMMARY:K-8 Professional Development Day - Students Do Not Report
URL;VALUE=URI:https://www.liverpool.k12.ny.us/calendar/4086674/k-8-professi
 onal-development-day-students-do-not-report
DTSTART;VALUE=DATE:20230620
DTEND;VALUE=DATE:20230621
END:VEVENT
END:VCALENDAR
