BEGIN:VCALENDAR
VERSION:2.0
PRODID:SchoolNow
CALSCALE:GREGORIAN
BEGIN:VEVENT
UID:8866445a-e2d2-11ed-bda4-0247e4db803f
DTSTAMP:20230424T190217Z
SUMMARY:Voter Registration Day (5-9-23)
LOCATION:District Office
URL;VALUE=URI:https://www.liverpool.k12.ny.us/calendar/4118446/voter-regist
 ration-day-5-9-23
DTSTART:20230509T130000Z
DTEND:20230509T200000Z
END:VEVENT
END:VCALENDAR
