BEGIN:VCALENDAR
VERSION:2.0
PRODID:SchoolNow
CALSCALE:GREGORIAN
BEGIN:VEVENT
UID:6d2f39e4-ea98-11ed-b45c-0a0cb39962bf
DTSTAMP:20230504T162630Z
SUMMARY:Special Board of Education Meeting (5-23-23) - EXECUTIVE SESSION
LOCATION:District Office Board Room
URL;VALUE=URI:https://www.liverpool.k12.ny.us/calendar/4182453/special-boar
 d-of-education-meeting-5-23-23-executive-session
DTSTART:20230523T220000Z
DTEND:20230524T020000Z
END:VEVENT
END:VCALENDAR
