BEGIN:VCALENDAR
VERSION:2.0
PRODID:SchoolNow
CALSCALE:GREGORIAN
BEGIN:VEVENT
UID:c1623364-eb4b-11ed-98f3-0a8e5c77e21d
DTSTAMP:20230505T135011Z
SUMMARY:Transportation Committee Meeting (5-17-23)
LOCATION:District Office Board Room
URL;VALUE=URI:https://www.liverpool.k12.ny.us/calendar/4187220/transportati
 on-committee-meeting-5-17-23
DTSTART:20230517T230000Z
DTEND:20230518T010000Z
END:VEVENT
END:VCALENDAR
