BEGIN:VCALENDAR
VERSION:2.0
PRODID:SchoolNow
CALSCALE:GREGORIAN
BEGIN:VEVENT
UID:d6f8b05e-eb4b-11ed-a2ce-0a8e5c77e21d
DTSTAMP:20230530T214644Z
SUMMARY:Transportation Committee Meeting (5-31-23)
LOCATION:Transportation Center
URL;VALUE=URI:https://www.liverpool.k12.ny.us/calendar/4187221/transportati
 on-committee-meeting-5-30-23
DTSTART:20230531T230000Z
DTEND:20230601T010000Z
END:VEVENT
END:VCALENDAR
