BEGIN:VCALENDAR
VERSION:2.0
PRODID:SchoolNow
CALSCALE:GREGORIAN
BEGIN:VEVENT
UID:915af830-edc2-11ed-acf1-0aabf40c02d5
DTSTAMP:20230508T170543Z
SUMMARY:Audit Committee Meeting (5-11-23)
LOCATION:District Office
URL;VALUE=URI:https://www.liverpool.k12.ny.us/calendar/4206591/audit-commit
 tee-meeting-5-11-23
DTSTART:20230511T120000Z
DTEND:20230511T130000Z
END:VEVENT
END:VCALENDAR
