BEGIN:VCALENDAR
VERSION:2.0
PRODID:SchoolNow
CALSCALE:GREGORIAN
BEGIN:VEVENT
UID:34437798-f5ac-11ed-91ac-022d099fe3a1
DTSTAMP:20230518T184547Z
SUMMARY:Liverpool Special Olympics
LOCATION:Liverpool High School
URL;VALUE=URI:https://www.liverpool.k12.ny.us/calendar/4264301/liverpool-sp
 ecial-olympics
DTSTART:20230602T140000Z
DTEND:20230602T171500Z
END:VEVENT
END:VCALENDAR
