BEGIN:VCALENDAR
VERSION:2.0
PRODID:SchoolNow
CALSCALE:GREGORIAN
BEGIN:VEVENT
UID:6408c0aa-fb1f-11ed-a216-0e2ca7c93f61
DTSTAMP:20230525T171321Z
SUMMARY:Board of Education Workshop (6/5/23) - Executive Session
LOCATION:District Office
URL;VALUE=URI:https://www.liverpool.k12.ny.us/calendar/4300721/board-of-edu
 cation-workshop-6-5-23-executive-session
DTSTART:20230605T210000Z
DTEND:20230605T230000Z
END:VEVENT
END:VCALENDAR
