BEGIN:VCALENDAR
VERSION:2.0
PRODID:SchoolNow
CALSCALE:GREGORIAN
BEGIN:VEVENT
UID:06d6f6f6-0c48-11ee-8797-0e2183db68bb
DTSTAMP:20230616T131638Z
SUMMARY:Audit Committee Meeting
LOCATION:District Office Board Room
URL;VALUE=URI:https://www.liverpool.k12.ny.us/calendar/4397875/audit-commit
 tee-meeting
DTSTART:20230622T120000Z
DTEND:20230622T130000Z
END:VEVENT
END:VCALENDAR
